BEGIN:VCALENDAR
VERSION:2.0
PRODID:-//Kalipay Wellness Center - ECPv6.15.20//NONSGML v1.0//EN
CALSCALE:GREGORIAN
METHOD:PUBLISH
X-ORIGINAL-URL:https://kalipay.info
X-WR-CALDESC:Events for Kalipay Wellness Center
REFRESH-INTERVAL;VALUE=DURATION:PT1H
X-Robots-Tag:noindex
X-PUBLISHED-TTL:PT1H
BEGIN:VTIMEZONE
TZID:Asia/Singapore
BEGIN:STANDARD
TZOFFSETFROM:+0800
TZOFFSETTO:+0800
TZNAME:+08
DTSTART:20230101T000000
END:STANDARD
END:VTIMEZONE
BEGIN:VEVENT
DTSTART;TZID=Asia/Singapore:20240711T100000
DTEND;TZID=Asia/Singapore:20240711T110000
DTSTAMP:20260419T235903
CREATED:20240718T084454Z
LAST-MODIFIED:20240718T084454Z
UID:3176-1720692000-1720695600@kalipay.info
SUMMARY:ChiKung Class - Thursday
DESCRIPTION:Chi Kung classes are held every Tuesday\, Thursday\, and Saturday from 10:00 – 11:00 in the morning. \nThe walk-in rate is Php 300 and Monthly Unlimited is Php 1\,800. \nChiKung and TaiChi combined classes Monthly Unlimited are at Php 3\,000 per person. \nRead more about ChiKung here: https://kalipay.info/chi-kung-qi-gong/ \nTo enroll\, please contact us here.
URL:https://kalipay.info/event/chikung-class-thursday-26/
LOCATION:Kalipay Wellness – Mountain Temple\, Maayongtubig\, Dauin\, Negros Oriental\, 6217\, Philippines
CATEGORIES:Chi Kung,Kalipay Wellness
END:VEVENT
BEGIN:VEVENT
DTSTART;TZID=Asia/Singapore:20240709T100000
DTEND;TZID=Asia/Singapore:20240709T110000
DTSTAMP:20260419T235903
CREATED:20240718T084444Z
LAST-MODIFIED:20240718T084444Z
UID:3174-1720519200-1720522800@kalipay.info
SUMMARY:ChiKung Class - Tuesday
DESCRIPTION:Chi Kung classes are held every Tuesday\, Thursday\, and Saturday from 10:00 – 11:00 in the morning. \nThe walk-in rate is Php 300 and Monthly Unlimited is Php 1\,800. \nChiKung and TaiChi combined classes Monthly Unlimited are at Php 3\,000 per person. \nRead more about ChiKung here: https://kalipay.info/chi-kung-qi-gong/ \nTo enroll\, please contact us here.
URL:https://kalipay.info/event/chikung-class-tuesday-25/
LOCATION:Kalipay Wellness – Mountain Temple\, Maayongtubig\, Dauin\, Negros Oriental\, 6217\, Philippines
CATEGORIES:Chi Kung,Kalipay Wellness
END:VEVENT
BEGIN:VEVENT
DTSTART;TZID=Asia/Singapore:20240706T100000
DTEND;TZID=Asia/Singapore:20240706T110000
DTSTAMP:20260419T235903
CREATED:20240718T083815Z
LAST-MODIFIED:20240718T083815Z
UID:3165-1720260000-1720263600@kalipay.info
SUMMARY:ChiKung Class - Saturday
DESCRIPTION:Chi Kung classes are held every Tuesday\, Thursday\, and Saturday from 10:00 – 11:00 in the morning. \nThe walk-in rate is Php 300 and Monthly Unlimited is Php 1\,800. \nChiKung and TaiChi combined classes Monthly Unlimited are at Php 3\,000 per person. \nRead more about ChiKung here: https://kalipay.info/chi-kung-qi-gong/ \nTo enroll\, please contact us here.
URL:https://kalipay.info/event/chikung-class-saturday-25/
LOCATION:Kalipay Wellness – Mountain Temple\, Maayongtubig\, Dauin\, Negros Oriental\, 6217\, Philippines
CATEGORIES:Chi Kung,Kalipay Wellness
END:VEVENT
BEGIN:VEVENT
DTSTART;TZID=Asia/Singapore:20240704T100000
DTEND;TZID=Asia/Singapore:20240704T110000
DTSTAMP:20260419T235903
CREATED:20240718T083801Z
LAST-MODIFIED:20240718T083801Z
UID:3163-1720087200-1720090800@kalipay.info
SUMMARY:ChiKung Class - Thursday
DESCRIPTION:Chi Kung classes are held every Tuesday\, Thursday\, and Saturday from 10:00 – 11:00 in the morning. \nThe walk-in rate is Php 300 and Monthly Unlimited is Php 1\,800. \nChiKung and TaiChi combined classes Monthly Unlimited are at Php 3\,000 per person. \nRead more about ChiKung here: https://kalipay.info/chi-kung-qi-gong/ \nTo enroll\, please contact us here.
URL:https://kalipay.info/event/chikung-class-thursday-25/
LOCATION:Kalipay Wellness – Mountain Temple\, Maayongtubig\, Dauin\, Negros Oriental\, 6217\, Philippines
CATEGORIES:Chi Kung,Kalipay Wellness
END:VEVENT
BEGIN:VEVENT
DTSTART;TZID=Asia/Singapore:20240702T100000
DTEND;TZID=Asia/Singapore:20240702T110000
DTSTAMP:20260419T235903
CREATED:20240718T083901Z
LAST-MODIFIED:20240718T083901Z
UID:3162-1719914400-1719918000@kalipay.info
SUMMARY:ChiKung Class - Tuesday
DESCRIPTION:Chi Kung classes are held every Tuesday\, Thursday\, and Saturday from 10:00 – 11:00 in the morning. \nThe walk-in rate is Php 300 and Monthly Unlimited is Php 1\,800. \nChiKung and TaiChi combined classes Monthly Unlimited are at Php 3\,000 per person. \nRead more about ChiKung here: https://kalipay.info/chi-kung-qi-gong/ \nTo enroll\, please contact us here.
URL:https://kalipay.info/event/chikung-class-tuesday-24/
LOCATION:Kalipay Wellness – Mountain Temple\, Maayongtubig\, Dauin\, Negros Oriental\, 6217\, Philippines
CATEGORIES:Chi Kung,Kalipay Wellness
END:VEVENT
BEGIN:VEVENT
DTSTART;TZID=Asia/Singapore:20240629T100000
DTEND;TZID=Asia/Singapore:20240629T110000
DTSTAMP:20260419T235903
CREATED:20240718T075725Z
LAST-MODIFIED:20240718T075725Z
UID:3154-1719655200-1719658800@kalipay.info
SUMMARY:ChiKung Class - Saturday
DESCRIPTION:Chi Kung classes are held every Tuesday\, Thursday\, and Saturday from 10:00 – 11:00 in the morning. \nThe walk-in rate is Php 300 and Monthly Unlimited is Php 1\,800. \nChiKung and TaiChi combined classes Monthly Unlimited are at Php 3\,000 per person. \nRead more about ChiKung here: https://kalipay.info/chi-kung-qi-gong/ \nTo enroll\, please contact us here.
URL:https://kalipay.info/event/chikung-class-saturday-24/
LOCATION:Kalipay Wellness – Mountain Temple\, Maayongtubig\, Dauin\, Negros Oriental\, 6217\, Philippines
CATEGORIES:Chi Kung,Kalipay Wellness
END:VEVENT
BEGIN:VEVENT
DTSTART;TZID=Asia/Singapore:20240627T100000
DTEND;TZID=Asia/Singapore:20240627T110000
DTSTAMP:20260419T235903
CREATED:20240718T075712Z
LAST-MODIFIED:20240718T075712Z
UID:3152-1719482400-1719486000@kalipay.info
SUMMARY:ChiKung Class - Thursday
DESCRIPTION:Chi Kung classes are held every Tuesday\, Thursday\, and Saturday from 10:00 – 11:00 in the morning. \nThe walk-in rate is Php 300 and Monthly Unlimited is Php 1\,800. \nChiKung and TaiChi combined classes Monthly Unlimited are at Php 3\,000 per person. \nRead more about ChiKung here: https://kalipay.info/chi-kung-qi-gong/ \nTo enroll\, please contact us here.
URL:https://kalipay.info/event/chikung-class-thursday-24/
LOCATION:Kalipay Wellness – Mountain Temple\, Maayongtubig\, Dauin\, Negros Oriental\, 6217\, Philippines
CATEGORIES:Chi Kung,Kalipay Wellness
END:VEVENT
BEGIN:VEVENT
DTSTART;TZID=Asia/Singapore:20240625T100000
DTEND;TZID=Asia/Singapore:20240625T110000
DTSTAMP:20260419T235903
CREATED:20240718T075703Z
LAST-MODIFIED:20240718T075703Z
UID:3150-1719309600-1719313200@kalipay.info
SUMMARY:ChiKung Class - Tuesday
DESCRIPTION:Chi Kung classes are held every Tuesday\, Thursday\, and Saturday from 10:00 – 11:00 in the morning. \nThe walk-in rate is Php 300 and Monthly Unlimited is Php 1\,800. \nChiKung and TaiChi combined classes Monthly Unlimited are at Php 3\,000 per person. \nRead more about ChiKung here: https://kalipay.info/chi-kung-qi-gong/ \nTo enroll\, please contact us here.
URL:https://kalipay.info/event/chikung-class-tuesday-23/
LOCATION:Kalipay Wellness – Mountain Temple\, Maayongtubig\, Dauin\, Negros Oriental\, 6217\, Philippines
CATEGORIES:Chi Kung,Kalipay Wellness
END:VEVENT
BEGIN:VEVENT
DTSTART;TZID=Asia/Singapore:20240622T100000
DTEND;TZID=Asia/Singapore:20240622T110000
DTSTAMP:20260419T235903
CREATED:20240718T073323Z
LAST-MODIFIED:20240718T073323Z
UID:3142-1719050400-1719054000@kalipay.info
SUMMARY:ChiKung Class - Saturday
DESCRIPTION:Chi Kung classes are held every Tuesday\, Thursday\, and Saturday from 10:00 – 11:00 in the morning. \nThe walk-in rate is Php 300 and Monthly Unlimited is Php 1\,800. \nChiKung and TaiChi combined classes Monthly Unlimited are at Php 3\,000 per person. \nRead more about ChiKung here: https://kalipay.info/chi-kung-qi-gong/ \nTo enroll\, please contact us here.
URL:https://kalipay.info/event/chikung-class-saturday-23/
LOCATION:Kalipay Wellness – Mountain Temple\, Maayongtubig\, Dauin\, Negros Oriental\, 6217\, Philippines
CATEGORIES:Chi Kung,Kalipay Wellness
END:VEVENT
BEGIN:VEVENT
DTSTART;TZID=Asia/Singapore:20240620T100000
DTEND;TZID=Asia/Singapore:20240620T110000
DTSTAMP:20260419T235903
CREATED:20240718T073313Z
LAST-MODIFIED:20240718T073313Z
UID:3140-1718877600-1718881200@kalipay.info
SUMMARY:ChiKung Class - Thursday
DESCRIPTION:Chi Kung classes are held every Tuesday\, Thursday\, and Saturday from 10:00 – 11:00 in the morning. \nThe walk-in rate is Php 300 and Monthly Unlimited is Php 1\,800. \nChiKung and TaiChi combined classes Monthly Unlimited are at Php 3\,000 per person. \nRead more about ChiKung here: https://kalipay.info/chi-kung-qi-gong/ \nTo enroll\, please contact us here.
URL:https://kalipay.info/event/chikung-class-thursday-23/
LOCATION:Kalipay Wellness – Mountain Temple\, Maayongtubig\, Dauin\, Negros Oriental\, 6217\, Philippines
CATEGORIES:Chi Kung,Kalipay Wellness
END:VEVENT
BEGIN:VEVENT
DTSTART;TZID=Asia/Singapore:20240618T100000
DTEND;TZID=Asia/Singapore:20240618T110000
DTSTAMP:20260419T235903
CREATED:20240718T073259Z
LAST-MODIFIED:20240718T073259Z
UID:3138-1718704800-1718708400@kalipay.info
SUMMARY:ChiKung Class - Tuesday
DESCRIPTION:Chi Kung classes are held every Tuesday\, Thursday\, and Saturday from 10:00 – 11:00 in the morning. \nThe walk-in rate is Php 300 and Monthly Unlimited is Php 1\,800. \nChiKung and TaiChi combined classes Monthly Unlimited are at Php 3\,000 per person. \nRead more about ChiKung here: https://kalipay.info/chi-kung-qi-gong/ \nTo enroll\, please contact us here.
URL:https://kalipay.info/event/chikung-class-tuesday-22/
LOCATION:Kalipay Wellness – Mountain Temple\, Maayongtubig\, Dauin\, Negros Oriental\, 6217\, Philippines
CATEGORIES:Chi Kung,Kalipay Wellness
END:VEVENT
BEGIN:VEVENT
DTSTART;TZID=Asia/Singapore:20240615T100000
DTEND;TZID=Asia/Singapore:20240615T110000
DTSTAMP:20260419T235903
CREATED:20240718T071924Z
LAST-MODIFIED:20240718T071924Z
UID:3130-1718445600-1718449200@kalipay.info
SUMMARY:ChiKung Class - Saturday
DESCRIPTION:Chi Kung classes are held every Tuesday\, Thursday\, and Saturday from 10:00 – 11:00 in the morning. \nThe walk-in rate is Php 300 and Monthly Unlimited is Php 1\,800. \nChiKung and TaiChi combined classes Monthly Unlimited are at Php 3\,000 per person. \nRead more about ChiKung here: https://kalipay.info/chi-kung-qi-gong/ \nTo enroll\, please contact us here.
URL:https://kalipay.info/event/chikung-class-saturday-22/
LOCATION:Kalipay Wellness – Mountain Temple\, Maayongtubig\, Dauin\, Negros Oriental\, 6217\, Philippines
CATEGORIES:Chi Kung,Kalipay Wellness
END:VEVENT
BEGIN:VEVENT
DTSTART;TZID=Asia/Singapore:20240613T100000
DTEND;TZID=Asia/Singapore:20240613T110000
DTSTAMP:20260419T235903
CREATED:20240718T071912Z
LAST-MODIFIED:20240718T071912Z
UID:3129-1718272800-1718276400@kalipay.info
SUMMARY:ChiKung Class - Thursday
DESCRIPTION:Chi Kung classes are held every Tuesday\, Thursday\, and Saturday from 10:00 – 11:00 in the morning. \nThe walk-in rate is Php 300 and Monthly Unlimited is Php 1\,800. \nChiKung and TaiChi combined classes Monthly Unlimited are at Php 3\,000 per person. \nRead more about ChiKung here: https://kalipay.info/chi-kung-qi-gong/ \nTo enroll\, please contact us here.
URL:https://kalipay.info/event/chikung-class-thursday-22/
LOCATION:Kalipay Wellness – Mountain Temple\, Maayongtubig\, Dauin\, Negros Oriental\, 6217\, Philippines
CATEGORIES:Chi Kung,Kalipay Wellness
END:VEVENT
BEGIN:VEVENT
DTSTART;TZID=Asia/Singapore:20240611T100000
DTEND;TZID=Asia/Singapore:20240611T110000
DTSTAMP:20260419T235903
CREATED:20240718T071904Z
LAST-MODIFIED:20240718T071904Z
UID:3126-1718100000-1718103600@kalipay.info
SUMMARY:ChiKung Class - Tuesday
DESCRIPTION:Chi Kung classes are held every Tuesday\, Thursday\, and Saturday from 10:00 – 11:00 in the morning. \nThe walk-in rate is Php 300 and Monthly Unlimited is Php 1\,800. \nChiKung and TaiChi combined classes Monthly Unlimited are at Php 3\,000 per person. \nRead more about ChiKung here: https://kalipay.info/chi-kung-qi-gong/ \nTo enroll\, please contact us here.
URL:https://kalipay.info/event/chikung-class-tuesday-21/
LOCATION:Kalipay Wellness – Mountain Temple\, Maayongtubig\, Dauin\, Negros Oriental\, 6217\, Philippines
CATEGORIES:Chi Kung,Kalipay Wellness
END:VEVENT
BEGIN:VEVENT
DTSTART;TZID=Asia/Singapore:20240608T100000
DTEND;TZID=Asia/Singapore:20240608T110000
DTSTAMP:20260419T235903
CREATED:20240718T071403Z
LAST-MODIFIED:20240718T071403Z
UID:3118-1717840800-1717844400@kalipay.info
SUMMARY:ChiKung Class - Saturday
DESCRIPTION:Chi Kung classes are held every Tuesday\, Thursday\, and Saturday from 10:00 – 11:00 in the morning. \nThe walk-in rate is Php 300 and Monthly Unlimited is Php 1\,800. \nChiKung and TaiChi combined classes Monthly Unlimited are at Php 3\,000 per person. \nRead more about ChiKung here: https://kalipay.info/chi-kung-qi-gong/ \nTo enroll\, please contact us here.
URL:https://kalipay.info/event/chikung-class-saturday-21/
LOCATION:Kalipay Wellness – Mountain Temple\, Maayongtubig\, Dauin\, Negros Oriental\, 6217\, Philippines
CATEGORIES:Chi Kung,Kalipay Wellness
END:VEVENT
BEGIN:VEVENT
DTSTART;TZID=Asia/Singapore:20240606T100000
DTEND;TZID=Asia/Singapore:20240606T110000
DTSTAMP:20260419T235903
CREATED:20240718T071351Z
LAST-MODIFIED:20240718T071351Z
UID:3116-1717668000-1717671600@kalipay.info
SUMMARY:ChiKung Class - Thursday
DESCRIPTION:Chi Kung classes are held every Tuesday\, Thursday\, and Saturday from 10:00 – 11:00 in the morning. \nThe walk-in rate is Php 300 and Monthly Unlimited is Php 1\,800. \nChiKung and TaiChi combined classes Monthly Unlimited are at Php 3\,000 per person. \nRead more about ChiKung here: https://kalipay.info/chi-kung-qi-gong/ \nTo enroll\, please contact us here.
URL:https://kalipay.info/event/chikung-class-thursday-21/
LOCATION:Kalipay Wellness – Mountain Temple\, Maayongtubig\, Dauin\, Negros Oriental\, 6217\, Philippines
CATEGORIES:Chi Kung,Kalipay Wellness
END:VEVENT
BEGIN:VEVENT
DTSTART;TZID=Asia/Singapore:20240604T100000
DTEND;TZID=Asia/Singapore:20240604T110000
DTSTAMP:20260419T235903
CREATED:20240718T071331Z
LAST-MODIFIED:20240718T071331Z
UID:3114-1717495200-1717498800@kalipay.info
SUMMARY:ChiKung Class - Tuesday
DESCRIPTION:Chi Kung classes are held every Tuesday\, Thursday\, and Saturday from 10:00 – 11:00 in the morning. \nThe walk-in rate is Php 300 and Monthly Unlimited is Php 1\,800. \nChiKung and TaiChi combined classes Monthly Unlimited are at Php 3\,000 per person. \nRead more about ChiKung here: https://kalipay.info/chi-kung-qi-gong/ \nTo enroll\, please contact us here.
URL:https://kalipay.info/event/chikung-class-tuesday-20/
LOCATION:Kalipay Wellness – Mountain Temple\, Maayongtubig\, Dauin\, Negros Oriental\, 6217\, Philippines
CATEGORIES:Chi Kung,Kalipay Wellness
END:VEVENT
BEGIN:VEVENT
DTSTART;TZID=Asia/Singapore:20240601T100000
DTEND;TZID=Asia/Singapore:20240601T110000
DTSTAMP:20260419T235903
CREATED:20240718T071118Z
LAST-MODIFIED:20240718T071118Z
UID:3105-1717236000-1717239600@kalipay.info
SUMMARY:ChiKung Class - Saturday
DESCRIPTION:Chi Kung classes are held every Tuesday\, Thursday\, and Saturday from 10:00 – 11:00 in the morning. \nThe walk-in rate is Php 300 and Monthly Unlimited is Php 1\,800. \nChiKung and TaiChi combined classes Monthly Unlimited are at Php 3\,000 per person. \nRead more about ChiKung here: https://kalipay.info/chi-kung-qi-gong/ \nTo enroll\, please contact us here.
URL:https://kalipay.info/event/chikung-class-saturday-20/
LOCATION:Kalipay Wellness – Mountain Temple\, Maayongtubig\, Dauin\, Negros Oriental\, 6217\, Philippines
CATEGORIES:Chi Kung,Kalipay Wellness
END:VEVENT
BEGIN:VEVENT
DTSTART;TZID=Asia/Singapore:20240530T100000
DTEND;TZID=Asia/Singapore:20240530T110000
DTSTAMP:20260419T235903
CREATED:20240718T071108Z
LAST-MODIFIED:20240718T071108Z
UID:3103-1717063200-1717066800@kalipay.info
SUMMARY:ChiKung Class - Thursday
DESCRIPTION:Chi Kung classes are held every Tuesday\, Thursday\, and Saturday from 10:00 – 11:00 in the morning. \nThe walk-in rate is Php 300 and Monthly Unlimited is Php 1\,800. \nChiKung and TaiChi combined classes Monthly Unlimited are at Php 3\,000 per person. \nRead more about ChiKung here: https://kalipay.info/chi-kung-qi-gong/ \nTo enroll\, please contact us here.
URL:https://kalipay.info/event/chikung-class-thursday-20/
LOCATION:Kalipay Wellness – Mountain Temple\, Maayongtubig\, Dauin\, Negros Oriental\, 6217\, Philippines
CATEGORIES:Chi Kung,Kalipay Wellness
END:VEVENT
BEGIN:VEVENT
DTSTART;TZID=Asia/Singapore:20240528T100000
DTEND;TZID=Asia/Singapore:20240528T110000
DTSTAMP:20260419T235903
CREATED:20240718T071136Z
LAST-MODIFIED:20240718T071136Z
UID:3101-1716890400-1716894000@kalipay.info
SUMMARY:ChiKung Class - Tuesday
DESCRIPTION:Chi Kung classes are held every Tuesday\, Thursday\, and Saturday from 10:00 – 11:00 in the morning. \nThe walk-in rate is Php 300 and Monthly Unlimited is Php 1\,800. \nChiKung and TaiChi combined classes Monthly Unlimited are at Php 3\,000 per person. \nRead more about ChiKung here: https://kalipay.info/chi-kung-qi-gong/ \nTo enroll\, please contact us here.
URL:https://kalipay.info/event/chikung-class-tuesday-19/
LOCATION:Kalipay Wellness – Mountain Temple\, Maayongtubig\, Dauin\, Negros Oriental\, 6217\, Philippines
CATEGORIES:Chi Kung,Kalipay Wellness
END:VEVENT
BEGIN:VEVENT
DTSTART;TZID=Asia/Singapore:20240525T100000
DTEND;TZID=Asia/Singapore:20240525T110000
DTSTAMP:20260419T235903
CREATED:20240718T064542Z
LAST-MODIFIED:20240718T064542Z
UID:3094-1716631200-1716634800@kalipay.info
SUMMARY:ChiKung Class - Saturday
DESCRIPTION:Chi Kung classes are held every Tuesday\, Thursday\, and Saturday from 10:00 – 11:00 in the morning. \nThe walk-in rate is Php 300 and Monthly Unlimited is Php 1\,800. \nChiKung and TaiChi combined classes Monthly Unlimited are at Php 3\,000 per person. \nRead more about ChiKung here: https://kalipay.info/chi-kung-qi-gong/ \nTo enroll\, please contact us here.
URL:https://kalipay.info/event/chikung-class-saturday-19/
LOCATION:Kalipay Wellness – Mountain Temple\, Maayongtubig\, Dauin\, Negros Oriental\, 6217\, Philippines
CATEGORIES:Chi Kung,Kalipay Wellness
END:VEVENT
BEGIN:VEVENT
DTSTART;TZID=Asia/Singapore:20240523T100000
DTEND;TZID=Asia/Singapore:20240523T110000
DTSTAMP:20260419T235903
CREATED:20240718T064530Z
LAST-MODIFIED:20240718T064530Z
UID:3092-1716458400-1716462000@kalipay.info
SUMMARY:ChiKung Class - Thursday
DESCRIPTION:Chi Kung classes are held every Tuesday\, Thursday\, and Saturday from 10:00 – 11:00 in the morning. \nThe walk-in rate is Php 300 and Monthly Unlimited is Php 1\,800. \nChiKung and TaiChi combined classes Monthly Unlimited are at Php 3\,000 per person. \nRead more about ChiKung here: https://kalipay.info/chi-kung-qi-gong/ \nTo enroll\, please contact us here.
URL:https://kalipay.info/event/chikung-class-thursday-19/
LOCATION:Kalipay Wellness – Mountain Temple\, Maayongtubig\, Dauin\, Negros Oriental\, 6217\, Philippines
CATEGORIES:Chi Kung,Kalipay Wellness
END:VEVENT
BEGIN:VEVENT
DTSTART;TZID=Asia/Singapore:20240521T100000
DTEND;TZID=Asia/Singapore:20240521T110000
DTSTAMP:20260419T235903
CREATED:20240718T064519Z
LAST-MODIFIED:20240718T064519Z
UID:3090-1716285600-1716289200@kalipay.info
SUMMARY:ChiKung Class - Tuesday
DESCRIPTION:Chi Kung classes are held every Tuesday\, Thursday\, and Saturday from 10:00 – 11:00 in the morning. \nThe walk-in rate is Php 300 and Monthly Unlimited is Php 1\,800. \nChiKung and TaiChi combined classes Monthly Unlimited are at Php 3\,000 per person. \nRead more about ChiKung here: https://kalipay.info/chi-kung-qi-gong/ \nTo enroll\, please contact us here.
URL:https://kalipay.info/event/chikung-class-tuesday-18/
LOCATION:Kalipay Wellness – Mountain Temple\, Maayongtubig\, Dauin\, Negros Oriental\, 6217\, Philippines
CATEGORIES:Chi Kung,Kalipay Wellness
END:VEVENT
BEGIN:VEVENT
DTSTART;TZID=Asia/Singapore:20240518T100000
DTEND;TZID=Asia/Singapore:20240518T110000
DTSTAMP:20260419T235903
CREATED:20240718T061936Z
LAST-MODIFIED:20240718T061936Z
UID:2986-1716026400-1716030000@kalipay.info
SUMMARY:ChiKung Class - Saturday
DESCRIPTION:Chi Kung classes are held every Tuesday\, Thursday\, and Saturday from 10:00 – 11:00 in the morning. \nThe walk-in rate is Php 300 and Monthly Unlimited is Php 1\,800. \nChiKung and TaiChi combined classes Monthly Unlimited are at Php 3\,000 per person. \nRead more about ChiKung here: https://kalipay.info/chi-kung-qi-gong/ \nTo enroll\, please contact us here.
URL:https://kalipay.info/event/chikung-class-saturday-17/
LOCATION:Kalipay Wellness – Mountain Temple\, Maayongtubig\, Dauin\, Negros Oriental\, 6217\, Philippines
CATEGORIES:Chi Kung,Kalipay Wellness
END:VEVENT
BEGIN:VEVENT
DTSTART;TZID=Asia/Singapore:20240516T100000
DTEND;TZID=Asia/Singapore:20240516T110000
DTSTAMP:20260419T235903
CREATED:20240718T061915Z
LAST-MODIFIED:20240718T061915Z
UID:2984-1715853600-1715857200@kalipay.info
SUMMARY:ChiKung Class - Thursday
DESCRIPTION:Chi Kung classes are held every Tuesday\, Thursday\, and Saturday from 10:00 – 11:00 in the morning. \nThe walk-in rate is Php 300 and Monthly Unlimited is Php 1\,800. \nChiKung and TaiChi combined classes Monthly Unlimited are at Php 3\,000 per person. \nRead more about ChiKung here: https://kalipay.info/chi-kung-qi-gong/ \nTo enroll\, please contact us here.
URL:https://kalipay.info/event/chikung-class-thursday-17/
LOCATION:Kalipay Wellness – Mountain Temple\, Maayongtubig\, Dauin\, Negros Oriental\, 6217\, Philippines
CATEGORIES:Chi Kung,Kalipay Wellness
END:VEVENT
BEGIN:VEVENT
DTSTART;TZID=Asia/Singapore:20240514T100000
DTEND;TZID=Asia/Singapore:20240514T110000
DTSTAMP:20260419T235903
CREATED:20240718T061900Z
LAST-MODIFIED:20240718T061900Z
UID:3075-1715680800-1715684400@kalipay.info
SUMMARY:ChiKung Class - Tuesday
DESCRIPTION:Chi Kung classes are held every Tuesday\, Thursday\, and Saturday from 10:00 – 11:00 in the morning. \nThe walk-in rate is Php 300 and Monthly Unlimited is Php 1\,800. \nChiKung and TaiChi combined classes Monthly Unlimited are at Php 3\,000 per person. \nRead more about ChiKung here: https://kalipay.info/chi-kung-qi-gong/ \nTo enroll\, please contact us here.
URL:https://kalipay.info/event/chikung-class-tuesday-17/
LOCATION:Kalipay Wellness – Mountain Temple\, Maayongtubig\, Dauin\, Negros Oriental\, 6217\, Philippines
CATEGORIES:Chi Kung,Kalipay Wellness
END:VEVENT
BEGIN:VEVENT
DTSTART;TZID=Asia/Singapore:20240511T100000
DTEND;TZID=Asia/Singapore:20240511T110000
DTSTAMP:20260419T235903
CREATED:20240718T062151Z
LAST-MODIFIED:20240718T062151Z
UID:3085-1715421600-1715425200@kalipay.info
SUMMARY:ChiKung Class - Saturday
DESCRIPTION:Chi Kung classes are held every Tuesday\, Thursday\, and Saturday from 10:00 – 11:00 in the morning. \nThe walk-in rate is Php 300 and Monthly Unlimited is Php 1\,800. \nChiKung and TaiChi combined classes Monthly Unlimited are at Php 3\,000 per person. \nRead more about ChiKung here: https://kalipay.info/chi-kung-qi-gong/ \nTo enroll\, please contact us here.
URL:https://kalipay.info/event/chikung-class-saturday-18/
LOCATION:Kalipay Wellness – Mountain Temple\, Maayongtubig\, Dauin\, Negros Oriental\, 6217\, Philippines
CATEGORIES:Chi Kung,Kalipay Wellness
END:VEVENT
BEGIN:VEVENT
DTSTART;TZID=Asia/Singapore:20240509T100000
DTEND;TZID=Asia/Singapore:20240509T110000
DTSTAMP:20260419T235903
CREATED:20240718T062142Z
LAST-MODIFIED:20240718T062142Z
UID:3083-1715248800-1715252400@kalipay.info
SUMMARY:ChiKung Class - Thursday
DESCRIPTION:Chi Kung classes are held every Tuesday\, Thursday\, and Saturday from 10:00 – 11:00 in the morning. \nThe walk-in rate is Php 300 and Monthly Unlimited is Php 1\,800. \nChiKung and TaiChi combined classes Monthly Unlimited are at Php 3\,000 per person. \nRead more about ChiKung here: https://kalipay.info/chi-kung-qi-gong/ \nTo enroll\, please contact us here.
URL:https://kalipay.info/event/chikung-class-thursday-18/
LOCATION:Kalipay Wellness – Mountain Temple\, Maayongtubig\, Dauin\, Negros Oriental\, 6217\, Philippines
CATEGORIES:Chi Kung,Kalipay Wellness
END:VEVENT
BEGIN:VEVENT
DTSTART;TZID=Asia/Singapore:20240507T100000
DTEND;TZID=Asia/Singapore:20240507T110000
DTSTAMP:20260419T235903
CREATED:20240414T174357Z
LAST-MODIFIED:20240414T174643Z
UID:2975-1715076000-1715079600@kalipay.info
SUMMARY:ChiKung Class - Tuesday
DESCRIPTION:Chi Kung classes are held every Tuesday\, Thursday\, and Saturday from 10:00 – 11:00 in the morning. \nThe walk-in rate is Php 300 and Monthly Unlimited is Php 1\,800. \nChiKung and TaiChi combined classes Monthly Unlimited are at Php 3\,000 per person. \nRead more about ChiKung here: https://kalipay.info/chi-kung-qi-gong/ \nTo enroll\, please contact us here.
URL:https://kalipay.info/event/chikung-class-tuesday-16/
LOCATION:Kalipay Wellness – Mountain Temple\, Maayongtubig\, Dauin\, Negros Oriental\, 6217\, Philippines
CATEGORIES:Chi Kung,Kalipay Wellness
END:VEVENT
BEGIN:VEVENT
DTSTART;TZID=Asia/Singapore:20240504T100000
DTEND;TZID=Asia/Singapore:20240504T110000
DTSTAMP:20260419T235903
CREATED:20240414T174335Z
LAST-MODIFIED:20240414T174335Z
UID:2973-1714816800-1714820400@kalipay.info
SUMMARY:ChiKung Class - Saturday
DESCRIPTION:Chi Kung classes are held every Tuesday\, Thursday\, and Saturday from 10:00 – 11:00 in the morning. \nThe walk-in rate is Php 300 and Monthly Unlimited is Php 1\,800. \nChiKung and TaiChi combined classes Monthly Unlimited are at Php 3\,000 per person. \nRead more about ChiKung here: https://kalipay.info/chi-kung-qi-gong/ \nTo enroll\, please contact us here.
URL:https://kalipay.info/event/chikung-class-saturday-16/
LOCATION:Kalipay Wellness – Mountain Temple\, Maayongtubig\, Dauin\, Negros Oriental\, 6217\, Philippines
CATEGORIES:Chi Kung,Kalipay Wellness
END:VEVENT
END:VCALENDAR